BEGIN:VCALENDAR
VERSION:2.0
PRODID:-//wp-events-plugin.com//7.2.3.1//EN
TZID:Europe/Prague
X-WR-TIMEZONE:Europe/Prague
BEGIN:VEVENT
UID:2533@farnostml.cz
DTSTART;TZID=Europe/Prague:20201222T170000
DTEND;TZID=Europe/Prague:20201222T190000
DTSTAMP:20201220T080530Z
URL:https://www.farnostml.cz/udalosti/kajici-poboznost-3/
SUMMARY:Příležitost ke svátosti smíření
DESCRIPTION:Zpovídá P. Řehoř\, P. Filip a P. Augustin.\nÚčast možná
  bez rezervace místa.
CATEGORIES:Duchovní obnova,Pobožnost
LOCATION:Farní kostel Nanebevzetí Panny Marie\, Goethovo náměstí 110/3
 1\, Mariánské Lázně\, Česká republika
X-APPLE-STRUCTURED-LOCATION;VALUE=URI;X-ADDRESS=Goethovo náměstí 110/31\
 , Mariánské Lázně\, Česká republika;X-APPLE-RADIUS=100;X-TITLE=Farn
 í kostel Nanebevzetí Panny Marie:geo:0,0
END:VEVENT
BEGIN:VTIMEZONE
TZID:Europe/Prague
X-LIC-LOCATION:Europe/Prague
BEGIN:STANDARD
DTSTART:20201025T020000
TZOFFSETFROM:+0200
TZOFFSETTO:+0100
TZNAME:CET
END:STANDARD
END:VTIMEZONE
END:VCALENDAR