BEGIN:VCALENDAR
VERSION:2.0
PRODID:-//wp-events-plugin.com//7.2.3.1//EN
TZID:Europe/Prague
X-WR-TIMEZONE:Europe/Prague
BEGIN:VEVENT
UID:5867@farnostml.cz
DTSTART;TZID=Europe/Prague:20240321T143000
DTEND;TZID=Europe/Prague:20240321T143000
DTSTAMP:20240305T092708Z
URL:https://www.farnostml.cz/udalosti/klub-senioru-co-bychom-meli-znat-ve-
 stari/
SUMMARY:Klub seniorů: Co bychom měli znát ve stáří
DESCRIPTION:Přednáší: Mgr. Lenka Špačková
CATEGORIES:Klub seniorů,Přednáška,Setkání na faře
LOCATION:Fara\, Nehrova 26/3a\, Mariánské Lázně\, Česká republika
X-APPLE-STRUCTURED-LOCATION;VALUE=URI;X-ADDRESS=Nehrova 26/3a\, Mariánské
  Lázně\, Česká republika;X-APPLE-RADIUS=100;X-TITLE=Fara:geo:0,0
END:VEVENT
BEGIN:VTIMEZONE
TZID:Europe/Prague
X-LIC-LOCATION:Europe/Prague
BEGIN:STANDARD
DTSTART:20231029T020000
TZOFFSETFROM:+0200
TZOFFSETTO:+0100
TZNAME:CET
END:STANDARD
END:VTIMEZONE
END:VCALENDAR