BEGIN:VCALENDAR
VERSION:2.0
PRODID:-//wp-events-plugin.com//7.2.3.1//EN
TZID:Europe/Prague
X-WR-TIMEZONE:Europe/Prague
BEGIN:VEVENT
UID:6553@farnostml.cz
DTSTART;TZID=Europe/Prague:20250802T180000
DTEND;TZID=Europe/Prague:20250802T180000
DTSTAMP:20241124T152628Z
URL:https://www.farnostml.cz/udalosti/modlitba-marianskeho-hymnu-akatist-1
 0-2025-08-02/
SUMMARY:Modlitba mariánského hymnu Akatist
DESCRIPTION:
CATEGORIES:Modlitba,Východní bohoslužba
LOCATION:Kaple svatého Šarbela\, blahoslaveného Hroznaty a Karla\, Nehro
 va 26/3a\, Mariánské Lázně\, 353 01\, Česká republika
X-APPLE-STRUCTURED-LOCATION;VALUE=URI;X-ADDRESS=Nehrova 26/3a\, Mariánské
  Lázně\, 353 01\, Česká republika;X-APPLE-RADIUS=100;X-TITLE=Kaple sva
 tého Šarbela\, blahoslaveného Hroznaty a Karla:geo:0,0
END:VEVENT
BEGIN:VTIMEZONE
TZID:Europe/Prague
X-LIC-LOCATION:Europe/Prague
BEGIN:DAYLIGHT
DTSTART:20250330T030000
TZOFFSETFROM:+0100
TZOFFSETTO:+0200
TZNAME:CEST
END:DAYLIGHT
END:VTIMEZONE
END:VCALENDAR