BEGIN:VCALENDAR
VERSION:2.0
PRODID:-//wp-events-plugin.com//7.2.3.1//EN
TZID:Europe/Prague
X-WR-TIMEZONE:Europe/Prague
BEGIN:VEVENT
UID:2206@farnostml.cz
DTSTART;TZID=Europe/Prague:20201111T100000
DTEND;TZID=Europe/Prague:20201111T101500
DTSTAMP:20201110T225457Z
URL:https://www.farnostml.cz/udalosti/modlitba-za-mir-a-obeti-valek-2/
SUMMARY:Modlitba za mír a oběti válek
DESCRIPTION:Ku příležitosti dnešního Dne válečných veteránů přip
 ravil otec Řehoř mimořádně video\, abychom se alespoň v duchu mohli 
 k němu připojit od 10:00 v modlitbě za mír a oběti válek\, která se
  koná již pravidelně 11. listopadu na symbolickém hřbitově padlých 
 za 1. světové války v mariánskolázeňském Geologickém parku.\n\nPie
 tní akt bude odvysílán a od té chvíle bude k dispozici v archivu. Ú
 čast možná pouze prostřednictvím internetu.
CATEGORIES:Modlitba
LOCATION:Geologický park\, Lesní\, Mariánské Lázně\, Česká republik
 a
X-APPLE-STRUCTURED-LOCATION;VALUE=URI;X-ADDRESS=Lesní\, Mariánské Lázn
 ě\, Česká republika;X-APPLE-RADIUS=100;X-TITLE=Geologický park:geo:0,0
END:VEVENT
BEGIN:VTIMEZONE
TZID:Europe/Prague
X-LIC-LOCATION:Europe/Prague
BEGIN:STANDARD
DTSTART:20201025T020000
TZOFFSETFROM:+0200
TZOFFSETTO:+0100
TZNAME:CET
END:STANDARD
END:VTIMEZONE
END:VCALENDAR