BEGIN:VCALENDAR
VERSION:2.0
PRODID:-//wp-events-plugin.com//7.2.3.1//EN
TZID:Europe/Prague
X-WR-TIMEZONE:Europe/Prague
BEGIN:VEVENT
UID:5107@farnostml.cz
DTSTART;TZID=Europe/Prague:20231104T150000
DTEND;TZID=Europe/Prague:20231104T151500
DTSTAMP:20231029T144738Z
URL:https://www.farnostml.cz/udalosti/modlitba-za-zemrele-7/
SUMMARY:Modlitba za zemřelé
DESCRIPTION:15:00 pobožnost na hřbitově v Trstěnicích\n15:30 mše svat
 á v kapli sv. Josefa v Drmoulu
CATEGORIES:Modlitba,Pobožnost,Zádušní bohoslužba
LOCATION:Hřbitov\,  \, Trstěnice\, Česká republika
X-APPLE-STRUCTURED-LOCATION;VALUE=URI;X-ADDRESS= \, Trstěnice\, Česká re
 publika;X-APPLE-RADIUS=100;X-TITLE=Hřbitov:geo:0,0
END:VEVENT
BEGIN:VTIMEZONE
TZID:Europe/Prague
X-LIC-LOCATION:Europe/Prague
BEGIN:STANDARD
DTSTART:20231029T020000
TZOFFSETFROM:+0200
TZOFFSETTO:+0100
TZNAME:CET
END:STANDARD
END:VTIMEZONE
END:VCALENDAR