BEGIN:VCALENDAR
VERSION:2.0
PRODID:-//wp-events-plugin.com//7.2.3.1//EN
TZID:Europe/Prague
X-WR-TIMEZONE:Europe/Prague
BEGIN:VEVENT
UID:5997@farnostml.cz
DTSTART;TZID=Europe/Prague:20241102T150000
DTEND;TZID=Europe/Prague:20241102T150000
DTSTAMP:20241002T221430Z
URL:https://www.farnostml.cz/udalosti/modlitba-za-zemrele-8/
SUMMARY:Modlitba za zemřelé
DESCRIPTION:
CATEGORIES:Modlitba,Zádušní bohoslužba
LOCATION:Hřbitov\,  \, Trstěnice\, Česká republika
X-APPLE-STRUCTURED-LOCATION;VALUE=URI;X-ADDRESS= \, Trstěnice\, Česká re
 publika;X-APPLE-RADIUS=100;X-TITLE=Hřbitov:geo:0,0
END:VEVENT
BEGIN:VTIMEZONE
TZID:Europe/Prague
X-LIC-LOCATION:Europe/Prague
BEGIN:STANDARD
DTSTART:20241027T020000
TZOFFSETFROM:+0200
TZOFFSETTO:+0100
TZNAME:CET
END:STANDARD
END:VTIMEZONE
END:VCALENDAR