BEGIN:VCALENDAR
VERSION:2.0
PRODID:-//wp-events-plugin.com//7.2.3.1//EN
TZID:Europe/Prague
X-WR-TIMEZONE:Europe/Prague
BEGIN:VEVENT
UID:1916@farnostml.cz
DTSTART;TZID=Europe/Prague:20200411T090000
DTEND;TZID=Europe/Prague:20200411T110000
DTSTAMP:20200403T172526Z
URL:https://www.farnostml.cz/udalosti/moznost-soukrome-modlitby-v-kostele-
 4/
SUMMARY:Možnost soukromé modlitby v kostele
DESCRIPTION:Od 9:00 do 11:00 je otevřen kostel k soukromé modlitbě. Pros
 ím využijte rovnoměrně celé časové rozmezí.
LOCATION:Farní kostel Nanebevzetí Panny Marie\, Goethovo náměstí 110/3
 1\, Mariánské Lázně\, Česká republika
X-APPLE-STRUCTURED-LOCATION;VALUE=URI;X-ADDRESS=Goethovo náměstí 110/31\
 , Mariánské Lázně\, Česká republika;X-APPLE-RADIUS=100;X-TITLE=Farn
 í kostel Nanebevzetí Panny Marie:geo:0,0
END:VEVENT
BEGIN:VTIMEZONE
TZID:Europe/Prague
X-LIC-LOCATION:Europe/Prague
BEGIN:DAYLIGHT
DTSTART:20200329T030000
TZOFFSETFROM:+0100
TZOFFSETTO:+0200
TZNAME:CEST
END:DAYLIGHT
END:VTIMEZONE
END:VCALENDAR