BEGIN:VCALENDAR
VERSION:2.0
PRODID:-//wp-events-plugin.com//7.2.3.1//EN
TZID:Europe/Prague
X-WR-TIMEZONE:Europe/Prague
BEGIN:VEVENT
UID:1908@farnostml.cz
DTSTART;TZID=Europe/Prague:20200409T180000
DTEND;TZID=Europe/Prague:20200409T185000
DTSTAMP:20200403T170408Z
URL:https://www.farnostml.cz/udalosti/mse-na-pamatku-vecere-pane-2020/
SUMMARY:Mše na památku Večeře Páně
DESCRIPTION:Účast možná pouze živě prostřednictvím internetu přes 
 Facebook nebo zde na webu na stránce Živé vysílání. Ze záznamu je n
 a základě pokynu biskupa Tomáše dostupná pouze část s kázáním.
CATEGORIES:Mše svatá
LOCATION:Farní kostel Nanebevzetí Panny Marie\, Goethovo náměstí 110/3
 1\, Mariánské Lázně\, Česká republika
X-APPLE-STRUCTURED-LOCATION;VALUE=URI;X-ADDRESS=Goethovo náměstí 110/31\
 , Mariánské Lázně\, Česká republika;X-APPLE-RADIUS=100;X-TITLE=Farn
 í kostel Nanebevzetí Panny Marie:geo:0,0
END:VEVENT
BEGIN:VTIMEZONE
TZID:Europe/Prague
X-LIC-LOCATION:Europe/Prague
BEGIN:DAYLIGHT
DTSTART:20200329T030000
TZOFFSETFROM:+0100
TZOFFSETTO:+0200
TZNAME:CEST
END:DAYLIGHT
END:VTIMEZONE
END:VCALENDAR