BEGIN:VCALENDAR
VERSION:2.0
PRODID:-//wp-events-plugin.com//7.2.3.1//EN
TZID:Europe/Prague
X-WR-TIMEZONE:Europe/Prague
BEGIN:VEVENT
UID:4247@farnostml.cz
DTSTART;TZID=Europe/Prague;VALUE=DATE:20230903
DTEND;TZID=Europe/Prague;VALUE=DATE:20230904
DTSTAMP:20230730T113215Z
URL:https://www.farnostml.cz/udalosti/mse-svata-109-2023-09-03/
SUMMARY:Není mše svatá
DESCRIPTION:Koná se výročí posvěcení farního kostela v 10:15.
LOCATION:Kostel svatého Antonína\, Ke Kostelu\, Mariánské Lázně\, 353
  01\, Česká republika
X-APPLE-STRUCTURED-LOCATION;VALUE=URI;X-ADDRESS=Ke Kostelu\, Mariánské L
 ázně\, 353 01\, Česká republika;X-APPLE-RADIUS=100;X-TITLE=Kostel svat
 ého Antonína:geo:0,0
END:VEVENT
BEGIN:VTIMEZONE
TZID:Europe/Prague
X-LIC-LOCATION:Europe/Prague
BEGIN:DAYLIGHT
DTSTART:20230326T030000
TZOFFSETFROM:+0100
TZOFFSETTO:+0200
TZNAME:CEST
END:DAYLIGHT
END:VTIMEZONE
END:VCALENDAR