BEGIN:VCALENDAR
VERSION:2.0
PRODID:-//wp-events-plugin.com//7.2.3.1//EN
TZID:Europe/Prague
X-WR-TIMEZONE:Europe/Prague
BEGIN:VEVENT
UID:1673@farnostml.cz
DTSTART;TZID=Europe/Prague;VALUE=DATE:20200307
DTEND;TZID=Europe/Prague;VALUE=DATE:20200308
DTSTAMP:20200229T210642Z
URL:https://www.farnostml.cz/udalosti/mse-svata-20-2020-03-07/
SUMMARY:Není mše svatá
DESCRIPTION:Koná se farní duchovní obnova na faře v Mariánských Lázn
 ích.
LOCATION:Kostel svatého Víta\, Trstěnice\, Trstěnice\, Česká republik
 a
X-APPLE-STRUCTURED-LOCATION;VALUE=URI;X-ADDRESS=Trstěnice\, Trstěnice\, 
 Česká republika;X-APPLE-RADIUS=100;X-TITLE=Kostel svatého Víta:geo:0,0
END:VEVENT
BEGIN:VTIMEZONE
TZID:Europe/Prague
X-LIC-LOCATION:Europe/Prague
BEGIN:STANDARD
DTSTART:20191027T020000
TZOFFSETFROM:+0200
TZOFFSETTO:+0100
TZNAME:CET
END:STANDARD
END:VTIMEZONE
END:VCALENDAR