BEGIN:VCALENDAR
VERSION:2.0
PRODID:-//wp-events-plugin.com//7.2.3.1//EN
TZID:Europe/Prague
X-WR-TIMEZONE:Europe/Prague
BEGIN:VEVENT
UID:2545@farnostml.cz
DTSTART;TZID=Europe/Prague;VALUE=DATE:20201224
DTEND;TZID=Europe/Prague;VALUE=DATE:20201225
DTSTAMP:20201220T141330Z
URL:https://www.farnostml.cz/udalosti/mse-svata-33-2020-12-24/
SUMMARY:Není mše svatá
DESCRIPTION:Pravidelná dopolední mše se nekoná.\nPůlnoční mše (býv
 ající pravidelně ve 22:00) se vzhledem k zákazu konání bohoslužeb v
  noci z 24. na 25. prosince vydanému otcem biskupem Tomášem a platnému
  v celé plzeňské diecézi v Mariánských Lázních veřejně nekoná. 
 Mše svatá bude vysílána o půlnoci přes tyto webové stránky a faceb
 ook.
LOCATION:Farní kostel Nanebevzetí Panny Marie\, Goethovo náměstí 110/3
 1\, Mariánské Lázně\, Česká republika
X-APPLE-STRUCTURED-LOCATION;VALUE=URI;X-ADDRESS=Goethovo náměstí 110/31\
 , Mariánské Lázně\, Česká republika;X-APPLE-RADIUS=100;X-TITLE=Farn
 í kostel Nanebevzetí Panny Marie:geo:0,0
END:VEVENT
BEGIN:VTIMEZONE
TZID:Europe/Prague
X-LIC-LOCATION:Europe/Prague
BEGIN:STANDARD
DTSTART:20201025T020000
TZOFFSETFROM:+0200
TZOFFSETTO:+0100
TZNAME:CET
END:STANDARD
END:VTIMEZONE
END:VCALENDAR