BEGIN:VCALENDAR
VERSION:2.0
PRODID:-//wp-events-plugin.com//7.2.3.1//EN
TZID:Europe/Prague
X-WR-TIMEZONE:Europe/Prague
BEGIN:VEVENT
UID:2616@farnostml.cz
DTSTART;TZID=Europe/Prague:20210116T153000
DTEND;TZID=Europe/Prague:20210116T153000
DTSTAMP:20210111T111123Z
URL:https://www.farnostml.cz/udalosti/mse-svata-42-2021-01-17/
SUMMARY:Přesunutá mše svatá
DESCRIPTION:Pravidelná nedělní mše nebude.\nOmezená kapacita\, rezerva
 ce místa přes telefon 604 877 223.
CATEGORIES:Mše svatá
LOCATION:Kostel svaté Anny\, Kostelní\, Velká Hleďsebe\, Česká republ
 ika
X-APPLE-STRUCTURED-LOCATION;VALUE=URI;X-ADDRESS=Kostelní\, Velká Hleďseb
 e\, Česká republika;X-APPLE-RADIUS=100;X-TITLE=Kostel svaté Anny:geo:0,
 0
END:VEVENT
BEGIN:VTIMEZONE
TZID:Europe/Prague
X-LIC-LOCATION:Europe/Prague
BEGIN:STANDARD
DTSTART:20201025T020000
TZOFFSETFROM:+0200
TZOFFSETTO:+0100
TZNAME:CET
END:STANDARD
END:VTIMEZONE
END:VCALENDAR