BEGIN:VCALENDAR
VERSION:2.0
PRODID:-//wp-events-plugin.com//7.2.3.1//EN
TZID:Europe/Prague
X-WR-TIMEZONE:Europe/Prague
BEGIN:VEVENT
UID:1893@farnostml.cz
DTSTART;TZID=Europe/Prague:20200416T063000
DTEND;TZID=Europe/Prague:20200416T071000
DTSTAMP:20200403T164140Z
URL:https://www.farnostml.cz/udalosti/mse-svata-s-rannimi-chvalami-2-2020-
 04-16/
SUMMARY:Mše svatá s ranními chválami
DESCRIPTION:Účast možná pouze živě prostřednictvím internetu přes 
 Facebook nebo zde na webu na stránce Živé vysílání. Ze záznamu je n
 a základě pokynu biskupa Tomáše dostupná pouze část s kázáním.
CATEGORIES:Denní modlitba církve,Mše svatá
LOCATION:Kaple svatého Šarbela\, blahoslaveného Hroznaty a Karla\, Nehro
 va 26/3a\, Mariánské Lázně\, 353 01\, Česká republika
X-APPLE-STRUCTURED-LOCATION;VALUE=URI;X-ADDRESS=Nehrova 26/3a\, Mariánské
  Lázně\, 353 01\, Česká republika;X-APPLE-RADIUS=100;X-TITLE=Kaple sva
 tého Šarbela\, blahoslaveného Hroznaty a Karla:geo:0,0
END:VEVENT
BEGIN:VTIMEZONE
TZID:Europe/Prague
X-LIC-LOCATION:Europe/Prague
BEGIN:DAYLIGHT
DTSTART:20200329T030000
TZOFFSETFROM:+0100
TZOFFSETTO:+0200
TZNAME:CEST
END:DAYLIGHT
END:VTIMEZONE
END:VCALENDAR