BEGIN:VCALENDAR
VERSION:2.0
PRODID:-//wp-events-plugin.com//7.2.3.1//EN
TZID:Europe/Prague
X-WR-TIMEZONE:Europe/Prague
BEGIN:VEVENT
UID:1929@farnostml.cz
DTSTART;TZID=Europe/Prague:20200427T180000
DTEND;TZID=Europe/Prague:20200427T184000
DTSTAMP:20200425T191910Z
URL:https://www.farnostml.cz/udalosti/mse-svata-sal/
SUMMARY:Mše svatá
DESCRIPTION:Účast možná po předchozí registraci na telefonním čísl
 e 604 877 223. Mše není přenášena online.\n\nKapacita volná.
CATEGORIES:Mše svatá
LOCATION:Fara\, Nehrova 26/3a\, Mariánské Lázně\, Česká republika
X-APPLE-STRUCTURED-LOCATION;VALUE=URI;X-ADDRESS=Nehrova 26/3a\, Mariánské
  Lázně\, Česká republika;X-APPLE-RADIUS=100;X-TITLE=Fara:geo:0,0
END:VEVENT
BEGIN:VTIMEZONE
TZID:Europe/Prague
X-LIC-LOCATION:Europe/Prague
BEGIN:DAYLIGHT
DTSTART:20200329T030000
TZOFFSETFROM:+0100
TZOFFSETTO:+0200
TZNAME:CEST
END:DAYLIGHT
END:VTIMEZONE
END:VCALENDAR