BEGIN:VCALENDAR
VERSION:2.0
PRODID:-//wp-events-plugin.com//7.2.3.1//EN
TZID:Europe/Prague
X-WR-TIMEZONE:Europe/Prague
BEGIN:VEVENT
UID:2636@farnostml.cz
DTSTART;TZID=Europe/Prague:20210125T063000
DTEND;TZID=Europe/Prague:20210125T071000
DTSTAMP:20210110T144922Z
URL:https://www.farnostml.cz/udalosti/mse-svata-za-zdravotniky-a-nemocne-n
 a-covidovych-oddelenich-2-2021-01-25/
SUMMARY:Mše svatá za zdravotníky a nemocné na covidových odděleních
DESCRIPTION:Živé vysílání. Účast možná pouze prostřednictvím toh
 oto webu nebo Facebooku.
CATEGORIES:Mše svatá
LOCATION:Kaple svatého Šarbela\, blahoslaveného Hroznaty a Karla\, Nehro
 va 26/3a\, Mariánské Lázně\, 353 01\, Česká republika
X-APPLE-STRUCTURED-LOCATION;VALUE=URI;X-ADDRESS=Nehrova 26/3a\, Mariánské
  Lázně\, 353 01\, Česká republika;X-APPLE-RADIUS=100;X-TITLE=Kaple sva
 tého Šarbela\, blahoslaveného Hroznaty a Karla:geo:0,0
END:VEVENT
BEGIN:VTIMEZONE
TZID:Europe/Prague
X-LIC-LOCATION:Europe/Prague
BEGIN:STANDARD
DTSTART:20201025T020000
TZOFFSETFROM:+0200
TZOFFSETTO:+0100
TZNAME:CET
END:STANDARD
END:VTIMEZONE
END:VCALENDAR