BEGIN:VCALENDAR
VERSION:2.0
PRODID:-//wp-events-plugin.com//7.2.3.1//EN
TZID:Europe/Prague
X-WR-TIMEZONE:Europe/Prague
BEGIN:VEVENT
UID:5144@farnostml.cz
DTSTART;TZID=Europe/Prague:20231224T143000
DTEND;TZID=Europe/Prague:20231224T143000
DTSTAMP:20231220T181030Z
URL:https://www.farnostml.cz/udalosti/neni-adventni-mse-svata-2023-12-24-l
 k/
SUMMARY:Není adventní mše svatá
DESCRIPTION:Koná se pouze vánoční mše v 16:00.
LOCATION:Kostel svaté Markéty\, Kostelní\, Lázně Kynžvart\, Česká r
 epublika
X-APPLE-STRUCTURED-LOCATION;VALUE=URI;X-ADDRESS=Kostelní\, Lázně Kynžva
 rt\, Česká republika;X-APPLE-RADIUS=100;X-TITLE=Kostel svaté Markéty:g
 eo:0,0
END:VEVENT
BEGIN:VTIMEZONE
TZID:Europe/Prague
X-LIC-LOCATION:Europe/Prague
BEGIN:STANDARD
DTSTART:20231029T020000
TZOFFSETFROM:+0200
TZOFFSETTO:+0100
TZNAME:CET
END:STANDARD
END:VTIMEZONE
END:VCALENDAR