BEGIN:VCALENDAR
VERSION:2.0
PRODID:-//wp-events-plugin.com//7.2.3.1//EN
TZID:Europe/Prague
X-WR-TIMEZONE:Europe/Prague
BEGIN:VEVENT
UID:6701@farnostml.cz
DTSTART;TZID=Europe/Prague:20250607T160000
DTEND;TZID=Europe/Prague:20250607T160000
DTSTAMP:20250603T122606Z
URL:https://www.farnostml.cz/udalosti/poutni-mse-svata-29/
SUMMARY:Poutní mše svatá
DESCRIPTION:
CATEGORIES:Mše svatá,Pouť,Slavnost
LOCATION:Zámecká kaple svatého Antonína\, Zámek 347\, Lázně Kynžvar
 t\, Česká republika
X-APPLE-STRUCTURED-LOCATION;VALUE=URI;X-ADDRESS=Zámek 347\, Lázně Kynžv
 art\, Česká republika;X-APPLE-RADIUS=100;X-TITLE=Zámecká kaple svatéh
 o Antonína:geo:0,0
END:VEVENT
BEGIN:VTIMEZONE
TZID:Europe/Prague
X-LIC-LOCATION:Europe/Prague
BEGIN:DAYLIGHT
DTSTART:20250330T030000
TZOFFSETFROM:+0100
TZOFFSETTO:+0200
TZNAME:CEST
END:DAYLIGHT
END:VTIMEZONE
END:VCALENDAR