BEGIN:VCALENDAR
VERSION:2.0
PRODID:-//wp-events-plugin.com//7.2.3.1//EN
TZID:Europe/Prague
X-WR-TIMEZONE:Europe/Prague
BEGIN:VEVENT
UID:1979@farnostml.cz
DTSTART;TZID=Europe/Prague:20200815T100000
DTEND;TZID=Europe/Prague:20200815T130000
DTSTAMP:20200704T125706Z
URL:https://www.farnostml.cz/udalosti/poutni-slavnost-6/
SUMMARY:Poutní slavnost
DESCRIPTION:Po mši svaté jsou všichni srdečně zváni ke společnému p
 osezení a obědu do farního sálu v Nehrově ulici.
CATEGORIES:Mše svatá,Pouť,Slavnost
LOCATION:Farní kostel Nanebevzetí Panny Marie\, Goethovo náměstí 110/3
 1\, Mariánské Lázně\, Česká republika
X-APPLE-STRUCTURED-LOCATION;VALUE=URI;X-ADDRESS=Goethovo náměstí 110/31\
 , Mariánské Lázně\, Česká republika;X-APPLE-RADIUS=100;X-TITLE=Farn
 í kostel Nanebevzetí Panny Marie:geo:0,0
END:VEVENT
BEGIN:VTIMEZONE
TZID:Europe/Prague
X-LIC-LOCATION:Europe/Prague
BEGIN:DAYLIGHT
DTSTART:20200329T030000
TZOFFSETFROM:+0100
TZOFFSETTO:+0200
TZNAME:CEST
END:DAYLIGHT
END:VTIMEZONE
END:VCALENDAR