BEGIN:VCALENDAR
VERSION:2.0
PRODID:-//wp-events-plugin.com//7.2.3.1//EN
TZID:Europe/Prague
X-WR-TIMEZONE:Europe/Prague
BEGIN:VEVENT
UID:1796@farnostml.cz
DTSTART;TZID=Europe/Prague;VALUE=DATE:20200319
DTEND;TZID=Europe/Prague;VALUE=DATE:20200320
DTSTAMP:20200317T152834Z
URL:https://www.farnostml.cz/udalosti/prednaska-na-tema-prislovi-a-rceni-v
 ychazejici-z-bible/
SUMMARY:Zrušená přednáška na téma: Přísloví a rčení vycházejíc
 í z Bible
DESCRIPTION:Zrušeno kvůli prevenci šíření koronaviru.
LOCATION:Fara\, Nehrova 26/3a\, Mariánské Lázně\, Česká republika
X-APPLE-STRUCTURED-LOCATION;VALUE=URI;X-ADDRESS=Nehrova 26/3a\, Mariánské
  Lázně\, Česká republika;X-APPLE-RADIUS=100;X-TITLE=Fara:geo:0,0
END:VEVENT
BEGIN:VTIMEZONE
TZID:Europe/Prague
X-LIC-LOCATION:Europe/Prague
BEGIN:STANDARD
DTSTART:20191027T020000
TZOFFSETFROM:+0200
TZOFFSETTO:+0100
TZNAME:CET
END:STANDARD
END:VTIMEZONE
END:VCALENDAR