BEGIN:VCALENDAR
VERSION:2.0
PRODID:-//wp-events-plugin.com//7.2.3.1//EN
TZID:Europe/Prague
X-WR-TIMEZONE:Europe/Prague
BEGIN:VEVENT
UID:933@farnostml.cz
DTSTART;TZID=Europe/Prague:20191008T143000
DTEND;TZID=Europe/Prague:20191008T143000
DTSTAMP:20190926T151259Z
URL:https://www.farnostml.cz/udalosti/prednaska-otce-opata-na-tema-ruzenec
 -v-zivote-krestana/
SUMMARY:Přednáška otce opata na téma: Růženec v životě křesťana
DESCRIPTION:Přednáší P. Filip Zdeněk Lobkowicz.
CATEGORIES:Přednáška
LOCATION:Fara\, Nehrova 26/3a\, Mariánské Lázně\, Česká republika
X-APPLE-STRUCTURED-LOCATION;VALUE=URI;X-ADDRESS=Nehrova 26/3a\, Mariánské
  Lázně\, Česká republika;X-APPLE-RADIUS=100;X-TITLE=Fara:geo:0,0
END:VEVENT
BEGIN:VTIMEZONE
TZID:Europe/Prague
X-LIC-LOCATION:Europe/Prague
BEGIN:DAYLIGHT
DTSTART:20190331T030000
TZOFFSETFROM:+0100
TZOFFSETTO:+0200
TZNAME:CEST
END:DAYLIGHT
END:VTIMEZONE
END:VCALENDAR