BEGIN:VCALENDAR
VERSION:2.0
PRODID:-//wp-events-plugin.com//7.2.3.1//EN
TZID:Europe/Prague
X-WR-TIMEZONE:Europe/Prague
BEGIN:VEVENT
UID:2359@farnostml.cz
DTSTART;TZID=Europe/Prague;VALUE=DATE:20201122
DTEND;TZID=Europe/Prague;VALUE=DATE:20201123
DTSTAMP:20201117T193659Z
URL:https://www.farnostml.cz/udalosti/slavnost-jezise-krista-krale/
SUMMARY:Slavnost Ježíše Krista Krále
DESCRIPTION:
END:VEVENT
BEGIN:VTIMEZONE
TZID:Europe/Prague
X-LIC-LOCATION:Europe/Prague
BEGIN:STANDARD
DTSTART:20201025T020000
TZOFFSETFROM:+0200
TZOFFSETTO:+0100
TZNAME:CET
END:STANDARD
END:VTIMEZONE
END:VCALENDAR