BEGIN:VCALENDAR
VERSION:2.0
PRODID:-//wp-events-plugin.com//7.2.3.1//EN
TZID:Europe/Prague
X-WR-TIMEZONE:Europe/Prague
BEGIN:VEVENT
UID:1970@farnostml.cz
DTSTART;TZID=Europe/Prague:20200611T180000
DTEND;TZID=Europe/Prague:20200611T193000
DTSTAMP:20200607T104500Z
URL:https://www.farnostml.cz/udalosti/slavnost-tela-a-krve-pane-2/
SUMMARY:Slavnost Těla a Krve Páně
DESCRIPTION:Slavnostní mše svatá s eucharistickým průvodem.\nDo kláš
 tera odjíždí farní autobus v 17:00 od dopravního podniku a zastaví n
 a zastávce MHD Chebská křižovatka směr centrum.
CATEGORIES:Mše svatá,Slavnost
LOCATION:Klášter Premonstrátů\, 1\, Teplá\, Česká republika
X-APPLE-STRUCTURED-LOCATION;VALUE=URI;X-ADDRESS=1\, Teplá\, Česká republ
 ika;X-APPLE-RADIUS=100;X-TITLE=Klášter Premonstrátů:geo:0,0
END:VEVENT
BEGIN:VTIMEZONE
TZID:Europe/Prague
X-LIC-LOCATION:Europe/Prague
BEGIN:DAYLIGHT
DTSTART:20200329T030000
TZOFFSETFROM:+0100
TZOFFSETTO:+0200
TZNAME:CEST
END:DAYLIGHT
END:VTIMEZONE
END:VCALENDAR