BEGIN:VCALENDAR
VERSION:2.0
PRODID:-//wp-events-plugin.com//7.2.3.1//EN
TZID:Europe/Prague
X-WR-TIMEZONE:Europe/Prague
BEGIN:VEVENT
UID:928@farnostml.cz
DTSTART;TZID=Europe/Prague:20191029T180000
DTEND;TZID=Europe/Prague:20191029T180000
DTSTAMP:20190926T150341Z
URL:https://www.farnostml.cz/udalosti/spolecna-modlitba-ruzence-4/
SUMMARY:Společná modlitba růžence
DESCRIPTION:Slavná tajemství
CATEGORIES:Modlitba růžence
LOCATION:Fara\, Nehrova 26/3a\, Mariánské Lázně\, Česká republika
X-APPLE-STRUCTURED-LOCATION;VALUE=URI;X-ADDRESS=Nehrova 26/3a\, Mariánské
  Lázně\, Česká republika;X-APPLE-RADIUS=100;X-TITLE=Fara:geo:0,0
END:VEVENT
BEGIN:VTIMEZONE
TZID:Europe/Prague
X-LIC-LOCATION:Europe/Prague
BEGIN:STANDARD
DTSTART:20191027T020000
TZOFFSETFROM:+0200
TZOFFSETTO:+0100
TZNAME:CET
END:STANDARD
END:VTIMEZONE
END:VCALENDAR