BEGIN:VCALENDAR
VERSION:2.0
PRODID:-//wp-events-plugin.com//7.2.3.1//EN
TZID:Europe/Prague
X-WR-TIMEZONE:Europe/Prague
BEGIN:VEVENT
UID:2008@farnostml.cz
DTSTART;TZID=Europe/Prague;VALUE=DATE:20201022
DTEND;TZID=Europe/Prague;VALUE=DATE:20201023
DTSTAMP:20201022T074934Z
URL:https://www.farnostml.cz/udalosti/vecerni-chvaly-a-ticha-adorace-39/
SUMMARY:Nejsou večerní chvály a tichá adorace
DESCRIPTION:Vysílání bude pokračovat modlitbou růžence od 20:00.
END:VEVENT
BEGIN:VTIMEZONE
TZID:Europe/Prague
X-LIC-LOCATION:Europe/Prague
BEGIN:DAYLIGHT
DTSTART:20200329T030000
TZOFFSETFROM:+0100
TZOFFSETTO:+0200
TZNAME:CEST
END:DAYLIGHT
END:VTIMEZONE
END:VCALENDAR