BEGIN:VCALENDAR
VERSION:2.0
PRODID:-//wp-events-plugin.com//7.2.3.1//EN
TZID:Europe/Prague
X-WR-TIMEZONE:Europe/Prague
BEGIN:VEVENT
UID:1863@farnostml.cz
DTSTART;TZID=Europe/Prague:20200417T200000
DTEND;TZID=Europe/Prague:20200417T204000
DTSTAMP:20200403T163239Z
URL:https://www.farnostml.cz/udalosti/vecerni-modlitba-2020-04-17/
SUMMARY:Večerní modlitba
DESCRIPTION:Eucharistická adorace spojená s modlitbou kompletáře v čas
 e\, kdy jsme našimi biskupy pozváni ke společné modlitbě za uzdraven
 í nemocných\, posilu pro zdravotní personál a odvrácení nebezpečí\
 , kterým je koronavirus pro každého z nás.\n\nÚčast možná pouze ž
 ivě prostřednictvím internetu přes Facebook nebo zde na webu na strán
 ce Živé vysílání. Záznam na základě pokynu biskupa Tomáše není 
 dostupný.
CATEGORIES:Denní modlitba církve,Eucharistická adorace
LOCATION:Kaple svatého Šarbela\, blahoslaveného Hroznaty a Karla\, Nehro
 va 26/3a\, Mariánské Lázně\, 353 01\, Česká republika
X-APPLE-STRUCTURED-LOCATION;VALUE=URI;X-ADDRESS=Nehrova 26/3a\, Mariánské
  Lázně\, 353 01\, Česká republika;X-APPLE-RADIUS=100;X-TITLE=Kaple sva
 tého Šarbela\, blahoslaveného Hroznaty a Karla:geo:0,0
END:VEVENT
BEGIN:VTIMEZONE
TZID:Europe/Prague
X-LIC-LOCATION:Europe/Prague
BEGIN:DAYLIGHT
DTSTART:20200329T030000
TZOFFSETFROM:+0100
TZOFFSETTO:+0200
TZNAME:CEST
END:DAYLIGHT
END:VTIMEZONE
END:VCALENDAR