BEGIN:VCALENDAR
VERSION:2.0
PRODID:-//wp-events-plugin.com//7.2.3.1//EN
TZID:Europe/Prague
X-WR-TIMEZONE:Europe/Prague
BEGIN:VEVENT
UID:1923@farnostml.cz
DTSTART;TZID=Europe/Prague:20200412T083000
DTEND;TZID=Europe/Prague:20200412T094500
DTSTAMP:20200409T112341Z
URL:https://www.farnostml.cz/udalosti/velikonocni-utrena-a-bozska-liturgie
 -sv-jana-zlatousteho-novy-styl/
SUMMARY:Velikonoční utreňa a Božská liturgie sv. Jana Zlatoústého (n
 ový styl)
DESCRIPTION:Východní obřad slavnosti Zmrtvýchvstání Páně.\n\nÚčas
 t možná pouze prostřednictvím internetu přes Facebook nebo zde na web
 u na stránce Živé vysílání.
CATEGORIES:Mše svatá,Slavnost,Východní bohoslužba
LOCATION:Kaple svatého Šarbela\, blahoslaveného Hroznaty a Karla\, Nehro
 va 26/3a\, Mariánské Lázně\, 353 01\, Česká republika
X-APPLE-STRUCTURED-LOCATION;VALUE=URI;X-ADDRESS=Nehrova 26/3a\, Mariánské
  Lázně\, 353 01\, Česká republika;X-APPLE-RADIUS=100;X-TITLE=Kaple sva
 tého Šarbela\, blahoslaveného Hroznaty a Karla:geo:0,0
END:VEVENT
BEGIN:VTIMEZONE
TZID:Europe/Prague
X-LIC-LOCATION:Europe/Prague
BEGIN:DAYLIGHT
DTSTART:20200329T030000
TZOFFSETFROM:+0100
TZOFFSETTO:+0200
TZNAME:CEST
END:DAYLIGHT
END:VTIMEZONE
END:VCALENDAR